BEGIN:VCALENDAR
VERSION:2.0
PRODID:-//Marion Dönhoff Gymnasium Hamburg - ECPv6.15.20//NONSGML v1.0//EN
CALSCALE:GREGORIAN
METHOD:PUBLISH
X-WR-CALNAME:Marion Dönhoff Gymnasium Hamburg
X-ORIGINAL-URL:https://www.marion-doenhoff-gymnasium.de
X-WR-CALDESC:Veranstaltungen für Marion Dönhoff Gymnasium Hamburg
REFRESH-INTERVAL;VALUE=DURATION:PT1H
X-Robots-Tag:noindex
X-PUBLISHED-TTL:PT1H
BEGIN:VTIMEZONE
TZID:Europe/Berlin
BEGIN:DAYLIGHT
TZOFFSETFROM:+0100
TZOFFSETTO:+0200
TZNAME:CEST
DTSTART:20250330T010000
END:DAYLIGHT
BEGIN:STANDARD
TZOFFSETFROM:+0200
TZOFFSETTO:+0100
TZNAME:CET
DTSTART:20251026T010000
END:STANDARD
BEGIN:DAYLIGHT
TZOFFSETFROM:+0100
TZOFFSETTO:+0200
TZNAME:CEST
DTSTART:20260329T010000
END:DAYLIGHT
BEGIN:STANDARD
TZOFFSETFROM:+0200
TZOFFSETTO:+0100
TZNAME:CET
DTSTART:20261025T010000
END:STANDARD
BEGIN:DAYLIGHT
TZOFFSETFROM:+0100
TZOFFSETTO:+0200
TZNAME:CEST
DTSTART:20270328T010000
END:DAYLIGHT
BEGIN:STANDARD
TZOFFSETFROM:+0200
TZOFFSETTO:+0100
TZNAME:CET
DTSTART:20271031T010000
END:STANDARD
END:VTIMEZONE
BEGIN:VEVENT
DTSTART;VALUE=DATE:20260212
DTEND;VALUE=DATE:20260703
DTSTAMP:20260424T013913
CREATED:20260210T202730Z
LAST-MODIFIED:20260210T203310Z
UID:9643-1770854400-1783036799@www.marion-doenhoff-gymnasium.de
SUMMARY:Techniksprechstunde für Eltern
DESCRIPTION:Liebe Eltern\, \ndurch unser BYOD-Konzept sind Sie als Eltern bereits früh mitverantwortlich für die technischen Schulgeräte Ihrer Kinder und begegnen sicherlich auch technischer Probleme. An vielen Stellen habe ich bereits signalisiert\, dass Sie gerne mit Ihren technischen Fragen auf mich zukommen dürfen. Dieses Angebot besteht natürlich weiterhin\, allerdings gibt es auch Probleme\, die nicht durch eine Email gelöst werden können. Aus diesem Grund biete ich nun jeweils donnerstags zwischen 16.00-17:00 Uhr eine Techniksprechstunde an\, zu der Sie (nach Voranmeldung per Email) kommen können und wir gemeinsam Lösungen suchen. Ich spreche mit Ihnen auch gerne über mögliche Einschränkungen von Bildschirmzeiten / Apps / Websites und wie diese sinnvoll auf den BYODs der Schüler:innen eingerichtet werden und hoffe\, dass wir durch einen intensiveren Austausch auch unser BYODD-Konzept weiter schärfen können. \nJulian Kiedaisch
URL:https://www.marion-doenhoff-gymnasium.de/event/techniksprechstunde-fuer-eltern/
LOCATION:MDG Hamburg\, Willhöden 74\, Hamburg\, 22587\, Germany
ATTACH;FMTTYPE=image/jpeg:https://www.marion-doenhoff-gymnasium.de/wp-content/uploads/2026/02/Techniksprechstunde-Eltern-scaled.jpg
END:VEVENT
BEGIN:VEVENT
DTSTART;TZID=Europe/Berlin:20260424T080000
DTEND;TZID=Europe/Berlin:20260424T170000
DTSTAMP:20260424T013913
CREATED:20260421T093627Z
LAST-MODIFIED:20260421T093646Z
UID:9945-1777017600-1777050000@www.marion-doenhoff-gymnasium.de
SUMMARY:Welttag des Buches - Thementag "Freundschaft"
DESCRIPTION:anlässlich des Welttags des Buches am 23. April gestalten wir am Freitag\, den 24. April einen Thementag unter dem Motto „Freundschaft“. \nIn der Bibliothek wird es einen Thementisch sowie eine Lesung in der ersten Pause geben. Lili Bitskey\, die Gewinnerin des Vorlesewettbewerbs der 6. Klassen\, liest aus dem Buch „Hey\, Milla! Mein geheimer Wünschesommer“. \nWir möchten die Gelegenheit nutzen\, um unsere Schulbibliothek gemeinsam mit Ihnen und Euch weiter auszubauen. Dafür nehmen wir gerne Bücherwünsche und Empfehlungen für unseren Bibliotheksbestand entgegen (gerne per Mail an bibliothek@mdg-hamburg.de). \nWir freuen uns auch über Bücherspenden\, die vom 20. bis 30. April 2026 während der Öffnungszeiten in der Bibliothek im Oberstufenhaus bei Frau Koldrack abgegeben werden können. Besonders willkommen sind spannende Romane und Comics für Schülerinnen und Schüler ab etwa 10 Jahren. Wenn Bücher vorhanden sind\, die gerne weitergegeben werden möchten\, nehmen wir diese sehr gerne entgegen. Als kleine Orientierung für den Zustand der Bücher gilt: Würde ich dieses Buch in diesem Zustand aus einer Bibliothek selbst noch lesen? Wenn ja\, wird es den Bibliotheksbestand bestimmt wunderbar bereichern! \nFragen zum Welttag des Buches und den Bücherspenden beantwortet Frau Koldrack (bibliothek@mdg-hamburg.de).
URL:https://www.marion-doenhoff-gymnasium.de/event/welttag-des-buches-thementag-freundschaft/
LOCATION:MDG Hamburg\, Willhöden 74\, Hamburg\, 22587\, Germany
CATEGORIES:Eltern,Homepage
ATTACH;FMTTYPE=image/jpeg:https://www.marion-doenhoff-gymnasium.de/wp-content/uploads/2026/04/PXL_20260415_1223109852-scaled.jpg
END:VEVENT
END:VCALENDAR